BEGIN:VCALENDAR
VERSION:2.0
PRODID:http://www.kufer.de/kuferweb / DE
METHOD:PUBLISH
CALSCALE:GREGORIAN
X-WR-TIMEZONE:Europe/Berlin
BEGIN:VTIMEZONE
TZID:Europe/Berlin
X-LIC-LOCATION:Europe/Berlin
BEGIN:DAYLIGHT
TZOFFSETFROM:+0100
TZOFFSETTO:+0200
TZNAME:CEST
DTSTART;TZID=Europe/Berlin:19700329T020000
RRULE:FREQ=YEARLY;INTERVAL=1;BYDAY=-1SU;BYMONTH=3
END:DAYLIGHT
BEGIN:STANDARD
TZOFFSETFROM:+0200
TZOFFSETTO:+0100
TZNAME:CET
DTSTART;TZID=Europe/Berlin:19701025T030000
RRULE:FREQ=YEARLY;INTERVAL=1;BYDAY=-1SU;BYMONTH=10
END:STANDARD
END:VTIMEZONE
BEGIN:VEVENT
DTSTAMP:20260423T163927
DTSTART;TZID=Europe/Berlin:20260507T090000
DTEND;TZID=Europe/Berlin:20260507T120000
UID:M26-V-1215-20260507T090000@VHSMAINBURG
SUMMARY:PC-Grundlagen für Späteinsteiger (M26-V-1215) 
LOCATION:vhs Mainburg, Raum 24, Mitterweg 8, 84048 Mainburg
END:VEVENT
BEGIN:VEVENT
DTSTAMP:20260423T163927
DTSTART;TZID=Europe/Berlin:20260521T090000
DTEND;TZID=Europe/Berlin:20260521T120000
UID:M26-V-1215-20260521T090000@VHSMAINBURG
SUMMARY:PC-Grundlagen für Späteinsteiger (M26-V-1215) 
LOCATION:vhs Mainburg, Raum 24, Mitterweg 8, 84048 Mainburg
END:VEVENT
BEGIN:VEVENT
DTSTAMP:20260423T163927
DTSTART;TZID=Europe/Berlin:20260611T090000
DTEND;TZID=Europe/Berlin:20260611T120000
UID:M26-V-1215-20260611T090000@VHSMAINBURG
SUMMARY:PC-Grundlagen für Späteinsteiger (M26-V-1215) 
LOCATION:vhs Mainburg, Raum 24, Mitterweg 8, 84048 Mainburg
END:VEVENT
BEGIN:VEVENT
DTSTAMP:20260423T163927
DTSTART;TZID=Europe/Berlin:20260618T090000
DTEND;TZID=Europe/Berlin:20260618T120000
UID:M26-V-1215-20260618T090000@VHSMAINBURG
SUMMARY:PC-Grundlagen für Späteinsteiger (M26-V-1215) 
LOCATION:vhs Mainburg, Raum 24, Mitterweg 8, 84048 Mainburg
END:VEVENT
BEGIN:VEVENT
DTSTAMP:20260423T163927
DTSTART;TZID=Europe/Berlin:20260625T090000
DTEND;TZID=Europe/Berlin:20260625T120000
UID:M26-V-1215-20260625T090000@VHSMAINBURG
SUMMARY:PC-Grundlagen für Späteinsteiger (M26-V-1215) 
LOCATION:vhs Mainburg, Raum 24, Mitterweg 8, 84048 Mainburg
END:VEVENT
END:VCALENDAR