BEGIN:VCALENDAR
VERSION:2.0
PRODID:http://www.kufer.de/kuferweb / DE
METHOD:PUBLISH
CALSCALE:GREGORIAN
X-WR-TIMEZONE:Europe/Berlin
BEGIN:VTIMEZONE
TZID:Europe/Berlin
X-LIC-LOCATION:Europe/Berlin
BEGIN:DAYLIGHT
TZOFFSETFROM:+0100
TZOFFSETTO:+0200
TZNAME:CEST
DTSTART;TZID=Europe/Berlin:19700329T020000
RRULE:FREQ=YEARLY;INTERVAL=1;BYDAY=-1SU;BYMONTH=3
END:DAYLIGHT
BEGIN:STANDARD
TZOFFSETFROM:+0200
TZOFFSETTO:+0100
TZNAME:CET
DTSTART;TZID=Europe/Berlin:19701025T030000
RRULE:FREQ=YEARLY;INTERVAL=1;BYDAY=-1SU;BYMONTH=10
END:STANDARD
END:VTIMEZONE
BEGIN:VEVENT
DTSTAMP:20260424T030022
DTSTART;TZID=Europe/Berlin:20260114T080000
DTEND;TZID=Europe/Berlin:20260114T120000
UID:N25-S-3006-20260114T080000@VHSMAINBURG
SUMMARY:Integrationskurs 103 Elternkurs Neustadt Modul 6 (N25-S-3006) 
LOCATION:Business Akademie Neustadt Raum 3, Donaustraße 17, 93333 Neustadt an der Donau
END:VEVENT
BEGIN:VEVENT
DTSTAMP:20260424T030022
DTSTART;TZID=Europe/Berlin:20260115T080000
DTEND;TZID=Europe/Berlin:20260115T120000
UID:N25-S-3006-20260115T080000@VHSMAINBURG
SUMMARY:Integrationskurs 103 Elternkurs Neustadt Modul 6 (N25-S-3006) 
LOCATION:Business Akademie Neustadt Raum 3, Donaustraße 17, 93333 Neustadt an der Donau
END:VEVENT
BEGIN:VEVENT
DTSTAMP:20260424T030022
DTSTART;TZID=Europe/Berlin:20260119T080000
DTEND;TZID=Europe/Berlin:20260119T120000
UID:N25-S-3006-20260119T080000@VHSMAINBURG
SUMMARY:Integrationskurs 103 Elternkurs Neustadt Modul 6 (N25-S-3006) 
LOCATION:Business Akademie Neustadt Raum 3, Donaustraße 17, 93333 Neustadt an der Donau
END:VEVENT
BEGIN:VEVENT
DTSTAMP:20260424T030022
DTSTART;TZID=Europe/Berlin:20260120T080000
DTEND;TZID=Europe/Berlin:20260120T120000
UID:N25-S-3006-20260120T080000@VHSMAINBURG
SUMMARY:Integrationskurs 103 Elternkurs Neustadt Modul 6 (N25-S-3006) 
LOCATION:Business Akademie Neustadt Raum 3, Donaustraße 17, 93333 Neustadt an der Donau
END:VEVENT
BEGIN:VEVENT
DTSTAMP:20260424T030022
DTSTART;TZID=Europe/Berlin:20260121T080000
DTEND;TZID=Europe/Berlin:20260121T120000
UID:N25-S-3006-20260121T080000@VHSMAINBURG
SUMMARY:Integrationskurs 103 Elternkurs Neustadt Modul 6 (N25-S-3006) 
LOCATION:Business Akademie Neustadt Raum 3, Donaustraße 17, 93333 Neustadt an der Donau
END:VEVENT
BEGIN:VEVENT
DTSTAMP:20260424T030022
DTSTART;TZID=Europe/Berlin:20260122T080000
DTEND;TZID=Europe/Berlin:20260122T120000
UID:N25-S-3006-20260122T080000@VHSMAINBURG
SUMMARY:Integrationskurs 103 Elternkurs Neustadt Modul 6 (N25-S-3006) 
LOCATION:Business Akademie Neustadt Raum 3, Donaustraße 17, 93333 Neustadt an der Donau
END:VEVENT
BEGIN:VEVENT
DTSTAMP:20260424T030022
DTSTART;TZID=Europe/Berlin:20260126T080000
DTEND;TZID=Europe/Berlin:20260126T120000
UID:N25-S-3006-20260126T080000@VHSMAINBURG
SUMMARY:Integrationskurs 103 Elternkurs Neustadt Modul 6 (N25-S-3006) 
LOCATION:Business Akademie Neustadt Raum 3, Donaustraße 17, 93333 Neustadt an der Donau
END:VEVENT
BEGIN:VEVENT
DTSTAMP:20260424T030022
DTSTART;TZID=Europe/Berlin:20260127T080000
DTEND;TZID=Europe/Berlin:20260127T120000
UID:N25-S-3006-20260127T080000@VHSMAINBURG
SUMMARY:Integrationskurs 103 Elternkurs Neustadt Modul 6 (N25-S-3006) 
LOCATION:Business Akademie Neustadt Raum 3, Donaustraße 17, 93333 Neustadt an der Donau
END:VEVENT
BEGIN:VEVENT
DTSTAMP:20260424T030022
DTSTART;TZID=Europe/Berlin:20260128T080000
DTEND;TZID=Europe/Berlin:20260128T120000
UID:N25-S-3006-20260128T080000@VHSMAINBURG
SUMMARY:Integrationskurs 103 Elternkurs Neustadt Modul 6 (N25-S-3006) 
LOCATION:Business Akademie Neustadt Raum 3, Donaustraße 17, 93333 Neustadt an der Donau
END:VEVENT
BEGIN:VEVENT
DTSTAMP:20260424T030022
DTSTART;TZID=Europe/Berlin:20260129T080000
DTEND;TZID=Europe/Berlin:20260129T120000
UID:N25-S-3006-20260129T080000@VHSMAINBURG
SUMMARY:Integrationskurs 103 Elternkurs Neustadt Modul 6 (N25-S-3006) 
LOCATION:Business Akademie Neustadt Raum 3, Donaustraße 17, 93333 Neustadt an der Donau
END:VEVENT
BEGIN:VEVENT
DTSTAMP:20260424T030022
DTSTART;TZID=Europe/Berlin:20260202T080000
DTEND;TZID=Europe/Berlin:20260202T120000
UID:N25-S-3006-20260202T080000@VHSMAINBURG
SUMMARY:Integrationskurs 103 Elternkurs Neustadt Modul 6 (N25-S-3006) 
LOCATION:Business Akademie Neustadt Raum 3, Donaustraße 17, 93333 Neustadt an der Donau
END:VEVENT
BEGIN:VEVENT
DTSTAMP:20260424T030022
DTSTART;TZID=Europe/Berlin:20260203T080000
DTEND;TZID=Europe/Berlin:20260203T120000
UID:N25-S-3006-20260203T080000@VHSMAINBURG
SUMMARY:Integrationskurs 103 Elternkurs Neustadt Modul 6 (N25-S-3006) 
LOCATION:Business Akademie Neustadt Raum 3, Donaustraße 17, 93333 Neustadt an der Donau
END:VEVENT
BEGIN:VEVENT
DTSTAMP:20260424T030022
DTSTART;TZID=Europe/Berlin:20260204T080000
DTEND;TZID=Europe/Berlin:20260204T120000
UID:N25-S-3006-20260204T080000@VHSMAINBURG
SUMMARY:Integrationskurs 103 Elternkurs Neustadt Modul 6 (N25-S-3006) 
LOCATION:Business Akademie Neustadt Raum 3, Donaustraße 17, 93333 Neustadt an der Donau
END:VEVENT
BEGIN:VEVENT
DTSTAMP:20260424T030022
DTSTART;TZID=Europe/Berlin:20260205T080000
DTEND;TZID=Europe/Berlin:20260205T120000
UID:N25-S-3006-20260205T080000@VHSMAINBURG
SUMMARY:Integrationskurs 103 Elternkurs Neustadt Modul 6 (N25-S-3006) 
LOCATION:Business Akademie Neustadt Raum 3, Donaustraße 17, 93333 Neustadt an der Donau
END:VEVENT
BEGIN:VEVENT
DTSTAMP:20260424T030022
DTSTART;TZID=Europe/Berlin:20260209T080000
DTEND;TZID=Europe/Berlin:20260209T120000
UID:N25-S-3006-20260209T080000@VHSMAINBURG
SUMMARY:Integrationskurs 103 Elternkurs Neustadt Modul 6 (N25-S-3006) 
LOCATION:Business Akademie Neustadt Raum 3, Donaustraße 17, 93333 Neustadt an der Donau
END:VEVENT
BEGIN:VEVENT
DTSTAMP:20260424T030022
DTSTART;TZID=Europe/Berlin:20260210T080000
DTEND;TZID=Europe/Berlin:20260210T120000
UID:N25-S-3006-20260210T080000@VHSMAINBURG
SUMMARY:Integrationskurs 103 Elternkurs Neustadt Modul 6 (N25-S-3006) 
LOCATION:Business Akademie Neustadt Raum 3, Donaustraße 17, 93333 Neustadt an der Donau
END:VEVENT
BEGIN:VEVENT
DTSTAMP:20260424T030022
DTSTART;TZID=Europe/Berlin:20260211T080000
DTEND;TZID=Europe/Berlin:20260211T120000
UID:N25-S-3006-20260211T080000@VHSMAINBURG
SUMMARY:Integrationskurs 103 Elternkurs Neustadt Modul 6 (N25-S-3006) 
LOCATION:Business Akademie Neustadt Raum 3, Donaustraße 17, 93333 Neustadt an der Donau
END:VEVENT
BEGIN:VEVENT
DTSTAMP:20260424T030022
DTSTART;TZID=Europe/Berlin:20260212T080000
DTEND;TZID=Europe/Berlin:20260212T120000
UID:N25-S-3006-20260212T080000@VHSMAINBURG
SUMMARY:Integrationskurs 103 Elternkurs Neustadt Modul 6 (N25-S-3006) 
LOCATION:Business Akademie Neustadt Raum 3, Donaustraße 17, 93333 Neustadt an der Donau
END:VEVENT
BEGIN:VEVENT
DTSTAMP:20260424T030022
DTSTART;TZID=Europe/Berlin:20260223T080000
DTEND;TZID=Europe/Berlin:20260223T120000
UID:N25-S-3006-20260223T080000@VHSMAINBURG
SUMMARY:Integrationskurs 103 Elternkurs Neustadt Modul 6 (N25-S-3006) 
LOCATION:Business Akademie Neustadt Raum 3, Donaustraße 17, 93333 Neustadt an der Donau
END:VEVENT
BEGIN:VEVENT
DTSTAMP:20260424T030022
DTSTART;TZID=Europe/Berlin:20260224T080000
DTEND;TZID=Europe/Berlin:20260224T120000
UID:N25-S-3006-20260224T080000@VHSMAINBURG
SUMMARY:Integrationskurs 103 Elternkurs Neustadt Modul 6 (N25-S-3006) 
LOCATION:Business Akademie Neustadt Raum 3, Donaustraße 17, 93333 Neustadt an der Donau
END:VEVENT
END:VCALENDAR