BEGIN:VCALENDAR
VERSION:2.0
PRODID:http://www.kufer.de/kuferweb / DE
METHOD:PUBLISH
CALSCALE:GREGORIAN
X-WR-TIMEZONE:Europe/Berlin
BEGIN:VTIMEZONE
TZID:Europe/Berlin
X-LIC-LOCATION:Europe/Berlin
BEGIN:DAYLIGHT
TZOFFSETFROM:+0100
TZOFFSETTO:+0200
TZNAME:CEST
DTSTART;TZID=Europe/Berlin:19700329T020000
RRULE:FREQ=YEARLY;INTERVAL=1;BYDAY=-1SU;BYMONTH=3
END:DAYLIGHT
BEGIN:STANDARD
TZOFFSETFROM:+0200
TZOFFSETTO:+0100
TZNAME:CET
DTSTART;TZID=Europe/Berlin:19701025T030000
RRULE:FREQ=YEARLY;INTERVAL=1;BYDAY=-1SU;BYMONTH=10
END:STANDARD
END:VTIMEZONE
BEGIN:VEVENT
DTSTAMP:20260425T215523
DTSTART;TZID=Europe/Berlin:20260225T080000
DTEND;TZID=Europe/Berlin:20260225T120000
UID:N25-S-3007-20260225T080000@VHSMAINBURG
SUMMARY:Integrationskurs 103 Elternkurs Neustadt Modul 7 (N25-S-3007) 
LOCATION:Business Akademie Neustadt Raum 3, Donaustraße 17, 93333 Neustadt an der Donau
END:VEVENT
BEGIN:VEVENT
DTSTAMP:20260425T215523
DTSTART;TZID=Europe/Berlin:20260226T080000
DTEND;TZID=Europe/Berlin:20260226T120000
UID:N25-S-3007-20260226T080000@VHSMAINBURG
SUMMARY:Integrationskurs 103 Elternkurs Neustadt Modul 7 (N25-S-3007) 
LOCATION:Business Akademie Neustadt Raum 3, Donaustraße 17, 93333 Neustadt an der Donau
END:VEVENT
BEGIN:VEVENT
DTSTAMP:20260425T215523
DTSTART;TZID=Europe/Berlin:20260302T080000
DTEND;TZID=Europe/Berlin:20260302T120000
UID:N25-S-3007-20260302T080000@VHSMAINBURG
SUMMARY:Integrationskurs 103 Elternkurs Neustadt Modul 7 (N25-S-3007) 
LOCATION:Business Akademie Neustadt Raum 3, Donaustraße 17, 93333 Neustadt an der Donau
END:VEVENT
BEGIN:VEVENT
DTSTAMP:20260425T215523
DTSTART;TZID=Europe/Berlin:20260303T080000
DTEND;TZID=Europe/Berlin:20260303T120000
UID:N25-S-3007-20260303T080000@VHSMAINBURG
SUMMARY:Integrationskurs 103 Elternkurs Neustadt Modul 7 (N25-S-3007) 
LOCATION:Business Akademie Neustadt Raum 3, Donaustraße 17, 93333 Neustadt an der Donau
END:VEVENT
BEGIN:VEVENT
DTSTAMP:20260425T215523
DTSTART;TZID=Europe/Berlin:20260304T080000
DTEND;TZID=Europe/Berlin:20260304T120000
UID:N25-S-3007-20260304T080000@VHSMAINBURG
SUMMARY:Integrationskurs 103 Elternkurs Neustadt Modul 7 (N25-S-3007) 
LOCATION:Business Akademie Neustadt Raum 3, Donaustraße 17, 93333 Neustadt an der Donau
END:VEVENT
BEGIN:VEVENT
DTSTAMP:20260425T215523
DTSTART;TZID=Europe/Berlin:20260305T080000
DTEND;TZID=Europe/Berlin:20260305T120000
UID:N25-S-3007-20260305T080000@VHSMAINBURG
SUMMARY:Integrationskurs 103 Elternkurs Neustadt Modul 7 (N25-S-3007) 
LOCATION:Business Akademie Neustadt Raum 3, Donaustraße 17, 93333 Neustadt an der Donau
END:VEVENT
BEGIN:VEVENT
DTSTAMP:20260425T215523
DTSTART;TZID=Europe/Berlin:20260309T080000
DTEND;TZID=Europe/Berlin:20260309T120000
UID:N25-S-3007-20260309T080000@VHSMAINBURG
SUMMARY:Integrationskurs 103 Elternkurs Neustadt Modul 7 (N25-S-3007) 
LOCATION:Business Akademie Neustadt Raum 3, Donaustraße 17, 93333 Neustadt an der Donau
END:VEVENT
BEGIN:VEVENT
DTSTAMP:20260425T215523
DTSTART;TZID=Europe/Berlin:20260310T080000
DTEND;TZID=Europe/Berlin:20260310T120000
UID:N25-S-3007-20260310T080000@VHSMAINBURG
SUMMARY:Integrationskurs 103 Elternkurs Neustadt Modul 7 (N25-S-3007) 
LOCATION:Business Akademie Neustadt Raum 3, Donaustraße 17, 93333 Neustadt an der Donau
END:VEVENT
BEGIN:VEVENT
DTSTAMP:20260425T215523
DTSTART;TZID=Europe/Berlin:20260311T080000
DTEND;TZID=Europe/Berlin:20260311T120000
UID:N25-S-3007-20260311T080000@VHSMAINBURG
SUMMARY:Integrationskurs 103 Elternkurs Neustadt Modul 7 (N25-S-3007) 
LOCATION:Business Akademie Neustadt Raum 3, Donaustraße 17, 93333 Neustadt an der Donau
END:VEVENT
BEGIN:VEVENT
DTSTAMP:20260425T215523
DTSTART;TZID=Europe/Berlin:20260312T080000
DTEND;TZID=Europe/Berlin:20260312T120000
UID:N25-S-3007-20260312T080000@VHSMAINBURG
SUMMARY:Integrationskurs 103 Elternkurs Neustadt Modul 7 (N25-S-3007) 
LOCATION:Business Akademie Neustadt Raum 3, Donaustraße 17, 93333 Neustadt an der Donau
END:VEVENT
BEGIN:VEVENT
DTSTAMP:20260425T215523
DTSTART;TZID=Europe/Berlin:20260316T080000
DTEND;TZID=Europe/Berlin:20260316T120000
UID:N25-S-3007-20260316T080000@VHSMAINBURG
SUMMARY:Integrationskurs 103 Elternkurs Neustadt Modul 7 (N25-S-3007) 
LOCATION:Business Akademie Neustadt Raum 3, Donaustraße 17, 93333 Neustadt an der Donau
END:VEVENT
BEGIN:VEVENT
DTSTAMP:20260425T215523
DTSTART;TZID=Europe/Berlin:20260317T080000
DTEND;TZID=Europe/Berlin:20260317T120000
UID:N25-S-3007-20260317T080000@VHSMAINBURG
SUMMARY:Integrationskurs 103 Elternkurs Neustadt Modul 7 (N25-S-3007) 
LOCATION:Business Akademie Neustadt Raum 3, Donaustraße 17, 93333 Neustadt an der Donau
END:VEVENT
BEGIN:VEVENT
DTSTAMP:20260425T215523
DTSTART;TZID=Europe/Berlin:20260318T080000
DTEND;TZID=Europe/Berlin:20260318T120000
UID:N25-S-3007-20260318T080000@VHSMAINBURG
SUMMARY:Integrationskurs 103 Elternkurs Neustadt Modul 7 (N25-S-3007) 
LOCATION:Business Akademie Neustadt Raum 3, Donaustraße 17, 93333 Neustadt an der Donau
END:VEVENT
BEGIN:VEVENT
DTSTAMP:20260425T215523
DTSTART;TZID=Europe/Berlin:20260319T080000
DTEND;TZID=Europe/Berlin:20260319T120000
UID:N25-S-3007-20260319T080000@VHSMAINBURG
SUMMARY:Integrationskurs 103 Elternkurs Neustadt Modul 7 (N25-S-3007) 
LOCATION:Business Akademie Neustadt Raum 3, Donaustraße 17, 93333 Neustadt an der Donau
END:VEVENT
BEGIN:VEVENT
DTSTAMP:20260425T215523
DTSTART;TZID=Europe/Berlin:20260323T080000
DTEND;TZID=Europe/Berlin:20260323T120000
UID:N25-S-3007-20260323T080000@VHSMAINBURG
SUMMARY:Integrationskurs 103 Elternkurs Neustadt Modul 7 (N25-S-3007) 
LOCATION:Business Akademie Neustadt Raum 3, Donaustraße 17, 93333 Neustadt an der Donau
END:VEVENT
BEGIN:VEVENT
DTSTAMP:20260425T215523
DTSTART;TZID=Europe/Berlin:20260324T080000
DTEND;TZID=Europe/Berlin:20260324T120000
UID:N25-S-3007-20260324T080000@VHSMAINBURG
SUMMARY:Integrationskurs 103 Elternkurs Neustadt Modul 7 (N25-S-3007) 
LOCATION:Business Akademie Neustadt Raum 3, Donaustraße 17, 93333 Neustadt an der Donau
END:VEVENT
BEGIN:VEVENT
DTSTAMP:20260425T215523
DTSTART;TZID=Europe/Berlin:20260325T080000
DTEND;TZID=Europe/Berlin:20260325T120000
UID:N25-S-3007-20260325T080000@VHSMAINBURG
SUMMARY:Integrationskurs 103 Elternkurs Neustadt Modul 7 (N25-S-3007) 
LOCATION:Business Akademie Neustadt Raum 3, Donaustraße 17, 93333 Neustadt an der Donau
END:VEVENT
BEGIN:VEVENT
DTSTAMP:20260425T215523
DTSTART;TZID=Europe/Berlin:20260326T080000
DTEND;TZID=Europe/Berlin:20260326T120000
UID:N25-S-3007-20260326T080000@VHSMAINBURG
SUMMARY:Integrationskurs 103 Elternkurs Neustadt Modul 7 (N25-S-3007) 
LOCATION:Business Akademie Neustadt Raum 3, Donaustraße 17, 93333 Neustadt an der Donau
END:VEVENT
BEGIN:VEVENT
DTSTAMP:20260425T215523
DTSTART;TZID=Europe/Berlin:20260413T080000
DTEND;TZID=Europe/Berlin:20260413T120000
UID:N25-S-3007-20260413T080000@VHSMAINBURG
SUMMARY:Integrationskurs 103 Elternkurs Neustadt Modul 7 (N25-S-3007) 
LOCATION:Business Akademie Neustadt Raum 3, Donaustraße 17, 93333 Neustadt an der Donau
END:VEVENT
BEGIN:VEVENT
DTSTAMP:20260425T215523
DTSTART;TZID=Europe/Berlin:20260414T080000
DTEND;TZID=Europe/Berlin:20260414T120000
UID:N25-S-3007-20260414T080000@VHSMAINBURG
SUMMARY:Integrationskurs 103 Elternkurs Neustadt Modul 7 (N25-S-3007) 
LOCATION:Business Akademie Neustadt Raum 3, Donaustraße 17, 93333 Neustadt an der Donau
END:VEVENT
END:VCALENDAR